BEGIN:VCALENDAR
VERSION:2.0
PRODID:-//Reenactment-Events.com - ECPv6.15.13//NONSGML v1.0//EN
CALSCALE:GREGORIAN
METHOD:PUBLISH
X-WR-CALNAME:Reenactment-Events.com
X-ORIGINAL-URL:https://reenactment-events.com
X-WR-CALDESC:Veranstaltungen für Reenactment-Events.com
REFRESH-INTERVAL;VALUE=DURATION:PT1H
X-Robots-Tag:noindex
X-PUBLISHED-TTL:PT1H
BEGIN:VTIMEZONE
TZID:Europe/Berlin
BEGIN:DAYLIGHT
TZOFFSETFROM:+0100
TZOFFSETTO:+0200
TZNAME:CEST
DTSTART:20230326T010000
END:DAYLIGHT
BEGIN:STANDARD
TZOFFSETFROM:+0200
TZOFFSETTO:+0100
TZNAME:CET
DTSTART:20231029T010000
END:STANDARD
BEGIN:DAYLIGHT
TZOFFSETFROM:+0100
TZOFFSETTO:+0200
TZNAME:CEST
DTSTART:20240331T010000
END:DAYLIGHT
BEGIN:STANDARD
TZOFFSETFROM:+0200
TZOFFSETTO:+0100
TZNAME:CET
DTSTART:20241027T010000
END:STANDARD
BEGIN:DAYLIGHT
TZOFFSETFROM:+0100
TZOFFSETTO:+0200
TZNAME:CEST
DTSTART:20250330T010000
END:DAYLIGHT
BEGIN:STANDARD
TZOFFSETFROM:+0200
TZOFFSETTO:+0100
TZNAME:CET
DTSTART:20251026T010000
END:STANDARD
END:VTIMEZONE
BEGIN:VEVENT
DTSTART;TZID=Europe/Berlin:20240830T110000
DTEND;TZID=Europe/Berlin:20240901T180000
DTSTAMP:20260426T022242
CREATED:20240813T095558Z
LAST-MODIFIED:20240813T095558Z
UID:82-1725015600-1725213600@reenactment-events.com
SUMMARY:Anno Domini 1734 - Die Post ist da!
DESCRIPTION:An diesem Wochenende zeigen Darstellerinnen und Darsteller das Leben vor 290 Jahren. Dabei gehen sie alltäglichen Betätigungen wie dem Kochen und Waschen nach. Es lässt sich das ein oder andere Gespräch belauschen. Zwischen Tratsch und Klatsch mischt sich diesmal vor allem ein Thema: Die Post. Wie sah das Briefwesen vor 290 Jahren eigentlich aus?
URL:https://reenactment-events.com/event/anno-domini-1734-die-post-ist-da/
LOCATION:Hohenloher Freilandmuseum Wackershofen\, Dorfstraße 53\, Schwäbisch Hall - Wackershofen\, 74523\, Deutschland
CATEGORIES:Neuzeit
ATTACH;FMTTYPE=image/jpeg:https://reenactment-events.com/wp-content/uploads/2024/08/anno-domini-1749_2014-119-1536x1152.3200x1800-scaled-e1723542939166.jpg
END:VEVENT
BEGIN:VEVENT
DTSTART;TZID=Europe/Berlin:20240831T090000
DTEND;TZID=Europe/Berlin:20240901T180000
DTSTAMP:20260426T022242
CREATED:20240812T211122Z
LAST-MODIFIED:20240812T211633Z
UID:71-1725094800-1725213600@reenactment-events.com
SUMMARY:Burgbelebung auf der Cadolzburg
DESCRIPTION:Nürnberg 1474 e.V. und Freunde aus dem Living History zeigen auch 2024 wieder im Hof der Vorburg spätmittelalterliches Leben: Sowohl im zivilen Bereich mit Handwerkern\, als auch militärisches Leben mit dem Nürnberger Aufgebot sowie Harnischfechtern in voller Rüstung. Der Eintritt ist frei\, alles findet in der frei zugänglichen Vorburg statt.
URL:https://reenactment-events.com/event/burgbelebung-auf-der-cadolzburg/
LOCATION:Burg Cadolzburg\, Burghof\, Cadolzburg\, 90556\, Deutschland
CATEGORIES:Mittelalter
ATTACH;FMTTYPE=image/jpeg:https://reenactment-events.com/wp-content/uploads/2024/08/453049158_795290642798697_3818541557403092058_n-e1723497074889.jpg
END:VEVENT
END:VCALENDAR