BEGIN:VCALENDAR
VERSION:2.0
PRODID:-//Reenactment-Events.com - ECPv6.15.13//NONSGML v1.0//EN
CALSCALE:GREGORIAN
METHOD:PUBLISH
X-ORIGINAL-URL:https://reenactment-events.com
X-WR-CALDESC:Veranstaltungen für Reenactment-Events.com
REFRESH-INTERVAL;VALUE=DURATION:PT1H
X-Robots-Tag:noindex
X-PUBLISHED-TTL:PT1H
BEGIN:VTIMEZONE
TZID:Europe/Berlin
BEGIN:DAYLIGHT
TZOFFSETFROM:+0100
TZOFFSETTO:+0200
TZNAME:CEST
DTSTART:20230326T010000
END:DAYLIGHT
BEGIN:STANDARD
TZOFFSETFROM:+0200
TZOFFSETTO:+0100
TZNAME:CET
DTSTART:20231029T010000
END:STANDARD
BEGIN:DAYLIGHT
TZOFFSETFROM:+0100
TZOFFSETTO:+0200
TZNAME:CEST
DTSTART:20240331T010000
END:DAYLIGHT
BEGIN:STANDARD
TZOFFSETFROM:+0200
TZOFFSETTO:+0100
TZNAME:CET
DTSTART:20241027T010000
END:STANDARD
BEGIN:DAYLIGHT
TZOFFSETFROM:+0100
TZOFFSETTO:+0200
TZNAME:CEST
DTSTART:20250330T010000
END:DAYLIGHT
BEGIN:STANDARD
TZOFFSETFROM:+0200
TZOFFSETTO:+0100
TZNAME:CET
DTSTART:20251026T010000
END:STANDARD
END:VTIMEZONE
BEGIN:VEVENT
DTSTART;TZID=Europe/Berlin:20240907T100000
DTEND;TZID=Europe/Berlin:20240908T180000
DTSTAMP:20260426T022506
CREATED:20240813T100813Z
LAST-MODIFIED:20240813T100813Z
UID:87-1725703200-1725818400@reenactment-events.com
SUMMARY:Burgbelebung Burg Linn
DESCRIPTION:Auf der Burg Linn in Krefeld herrscht reges Treiben: Holz wird in Form gehauen\, wohlriechende Mahlzeiten zubereitet\, frisches Brot gebacken und vieles mehr. Erlebt die Burg im ausgehenden 14. Jahrhundert\, bestaunt altes Handwerk und bekommt einen Eindruck\, wie es auf Burg Linn 1380 zugegangen sein könnte.
URL:https://reenactment-events.com/event/burgbelebung-burg-linn/
LOCATION:Museum Burg Linn\, Rheinbabenstraße 85\, Krefeld\, 47809\, Deutschland
CATEGORIES:Mittelalter
ATTACH;FMTTYPE=image/jpeg:https://reenactment-events.com/wp-content/uploads/2024/08/432354511_806954354819323_5221785156768656817_n-e1723543687148.jpg
END:VEVENT
END:VCALENDAR