BEGIN:VCALENDAR
VERSION:2.0
PRODID:-//Reenactment-Events.com - ECPv6.15.13//NONSGML v1.0//EN
CALSCALE:GREGORIAN
METHOD:PUBLISH
X-WR-CALNAME:Reenactment-Events.com
X-ORIGINAL-URL:https://reenactment-events.com
X-WR-CALDESC:Veranstaltungen für Reenactment-Events.com
REFRESH-INTERVAL;VALUE=DURATION:PT1H
X-Robots-Tag:noindex
X-PUBLISHED-TTL:PT1H
BEGIN:VTIMEZONE
TZID:Europe/Berlin
BEGIN:DAYLIGHT
TZOFFSETFROM:+0100
TZOFFSETTO:+0200
TZNAME:CEST
DTSTART:20230326T010000
END:DAYLIGHT
BEGIN:STANDARD
TZOFFSETFROM:+0200
TZOFFSETTO:+0100
TZNAME:CET
DTSTART:20231029T010000
END:STANDARD
BEGIN:DAYLIGHT
TZOFFSETFROM:+0100
TZOFFSETTO:+0200
TZNAME:CEST
DTSTART:20240331T010000
END:DAYLIGHT
BEGIN:STANDARD
TZOFFSETFROM:+0200
TZOFFSETTO:+0100
TZNAME:CET
DTSTART:20241027T010000
END:STANDARD
BEGIN:DAYLIGHT
TZOFFSETFROM:+0100
TZOFFSETTO:+0200
TZNAME:CEST
DTSTART:20250330T010000
END:DAYLIGHT
BEGIN:STANDARD
TZOFFSETFROM:+0200
TZOFFSETTO:+0100
TZNAME:CET
DTSTART:20251026T010000
END:STANDARD
END:VTIMEZONE
BEGIN:VEVENT
DTSTART;TZID=Europe/Berlin:20240913T080000
DTEND;TZID=Europe/Berlin:20240913T170000
DTSTAMP:20260426T022241
CREATED:20240813T104544Z
LAST-MODIFIED:20240813T104544Z
UID:106-1726214400-1726246800@reenactment-events.com
SUMMARY:Stupor Mundi - Belebung der Burg Ronneburg
DESCRIPTION:
URL:https://reenactment-events.com/event/stupor-mundi-belebung-der-burg-ronneburg/
LOCATION:Burg Ronneburg\, Auf der Burg 1\, Ronneburg\, 63549\, Deutschland
CATEGORIES:Mittelalter
ATTACH;FMTTYPE=image/jpeg:https://reenactment-events.com/wp-content/uploads/2024/08/455095813_8046267325481658_8867027844753777666_n-e1723545896568.jpg
END:VEVENT
END:VCALENDAR