BEGIN:VCALENDAR
VERSION:2.0
PRODID:-//Reenactment-Events.com - ECPv6.15.13//NONSGML v1.0//EN
CALSCALE:GREGORIAN
METHOD:PUBLISH
X-WR-CALNAME:Reenactment-Events.com
X-ORIGINAL-URL:https://reenactment-events.com
X-WR-CALDESC:Veranstaltungen für Reenactment-Events.com
REFRESH-INTERVAL;VALUE=DURATION:PT1H
X-Robots-Tag:noindex
X-PUBLISHED-TTL:PT1H
BEGIN:VTIMEZONE
TZID:Europe/Berlin
BEGIN:DAYLIGHT
TZOFFSETFROM:+0100
TZOFFSETTO:+0200
TZNAME:CEST
DTSTART:20230326T010000
END:DAYLIGHT
BEGIN:STANDARD
TZOFFSETFROM:+0200
TZOFFSETTO:+0100
TZNAME:CET
DTSTART:20231029T010000
END:STANDARD
BEGIN:DAYLIGHT
TZOFFSETFROM:+0100
TZOFFSETTO:+0200
TZNAME:CEST
DTSTART:20240331T010000
END:DAYLIGHT
BEGIN:STANDARD
TZOFFSETFROM:+0200
TZOFFSETTO:+0100
TZNAME:CET
DTSTART:20241027T010000
END:STANDARD
BEGIN:DAYLIGHT
TZOFFSETFROM:+0100
TZOFFSETTO:+0200
TZNAME:CEST
DTSTART:20250330T010000
END:DAYLIGHT
BEGIN:STANDARD
TZOFFSETFROM:+0200
TZOFFSETTO:+0100
TZNAME:CET
DTSTART:20251026T010000
END:STANDARD
END:VTIMEZONE
BEGIN:VEVENT
DTSTART;TZID=Europe/Berlin:20240928T100000
DTEND;TZID=Europe/Berlin:20240929T160000
DTSTAMP:20260426T034958
CREATED:20240813T101722Z
LAST-MODIFIED:20240813T101722Z
UID:91-1727517600-1727625600@reenactment-events.com
SUMMARY:Großes Herbstfest - Zeitreise ins Slawische Mittelalter
DESCRIPTION:Eine Zeitreise in das slawische Mittelalter – mit Handwerk\, Kampf und Handel / Casowe drogowanje do słowjańskego srjejźowěka – z rucnikaŕstwom\, wójowanim a wikowanim
URL:https://reenactment-events.com/event/grosses-herbstfest-zeitreise-ins-slawische-mittelalter/
LOCATION:Freilichtmuseum Stary Iud\, Hauptstraße 32\, Dissen-Striesow OT Dissen\, 03096
CATEGORIES:Mittelalter
ATTACH;FMTTYPE=image/jpeg:https://reenactment-events.com/wp-content/uploads/2024/08/420517408_840594001199242_6928066724720526186_n-e1723544234162.jpg
END:VEVENT
BEGIN:VEVENT
DTSTART;TZID=Europe/Berlin:20240928T100000
DTEND;TZID=Europe/Berlin:20240929T170000
DTSTAMP:20260426T034958
CREATED:20240813T103811Z
LAST-MODIFIED:20240919T204115Z
UID:101-1727517600-1727629200@reenactment-events.com
SUMMARY:Belebung im Germanengehöft - Die Wikinger zu Gast
DESCRIPTION:Geboten werden sowohl zivile wie auch militärische norwegische Ausrüstung des ausgehenden neunten Jahrhunderts\, Handwerk ebenso wie Alltagsleben\nEinen Höhepunkt am Sonntag bilden altnordische Texte\, in authentischem Rahmen vorgetragen von Studenten des Skandinavistik Instituts der Uni Wien.
URL:https://reenactment-events.com/event/belebung-im-germanengehoeft/
LOCATION:Germanengehöft Elsarn\, Kremserstraße 1\, Elsarn im Straßertale\, 3491\, Österreich
CATEGORIES:Mittelalter
ATTACH;FMTTYPE=image/jpeg:https://reenactment-events.com/wp-content/uploads/2024/08/1000026310.jpg
END:VEVENT
END:VCALENDAR