BEGIN:VCALENDAR
VERSION:2.0
PRODID:-//Reenactment-Events.com - ECPv6.15.13//NONSGML v1.0//EN
CALSCALE:GREGORIAN
METHOD:PUBLISH
X-ORIGINAL-URL:https://reenactment-events.com
X-WR-CALDESC:Veranstaltungen für Reenactment-Events.com
REFRESH-INTERVAL;VALUE=DURATION:PT1H
X-Robots-Tag:noindex
X-PUBLISHED-TTL:PT1H
BEGIN:VTIMEZONE
TZID:Europe/Berlin
BEGIN:DAYLIGHT
TZOFFSETFROM:+0100
TZOFFSETTO:+0200
TZNAME:CEST
DTSTART:20240331T010000
END:DAYLIGHT
BEGIN:STANDARD
TZOFFSETFROM:+0200
TZOFFSETTO:+0100
TZNAME:CET
DTSTART:20241027T010000
END:STANDARD
BEGIN:DAYLIGHT
TZOFFSETFROM:+0100
TZOFFSETTO:+0200
TZNAME:CEST
DTSTART:20250330T010000
END:DAYLIGHT
BEGIN:STANDARD
TZOFFSETFROM:+0200
TZOFFSETTO:+0100
TZNAME:CET
DTSTART:20251026T010000
END:STANDARD
BEGIN:DAYLIGHT
TZOFFSETFROM:+0100
TZOFFSETTO:+0200
TZNAME:CEST
DTSTART:20260329T010000
END:DAYLIGHT
BEGIN:STANDARD
TZOFFSETFROM:+0200
TZOFFSETTO:+0100
TZNAME:CET
DTSTART:20261025T010000
END:STANDARD
END:VTIMEZONE
BEGIN:VEVENT
DTSTART;TZID=Europe/Berlin:20250508T000000
DTEND;TZID=Europe/Berlin:20250516T235959
DTSTAMP:20260425T130149
CREATED:20240813T112356Z
LAST-MODIFIED:20241106T121048Z
UID:115-1746662400-1747439999@reenactment-events.com
SUMMARY:Elf Tage im Mai 1525 - Ein Tross auf den Spuren des Kraichgauer Haufens
DESCRIPTION:m Jahr 2025 jähren sich die Bauernaufstände im Südwesten zum 500. Mal. Anlässlich der Geschehnisse im Jahr 1525 – die sich im Jahr 2025 tagesgleich decken – wird der Zug des „Kraichgauer Haufens“ die Originalstrecke passieren und an den historisch belegten Orten nachgestellt. Eine Gruppe von Darstellerinnen und Darstellern in zeitgenössischer historischer Kleidung/Ausstattung wird mit Fuhrwerken auf den Spuren ihrer Ahnen durch den Kraichgau ziehen und die Ereignisse von damals – so nah wie möglich an den historischen Quellen – nachstellen und erleben.
URL:https://reenactment-events.com/event/elf-tage-im-mai-1525-ein-tross-auf-den-spuren-des-kraichgauer-haufens/
CATEGORIES:Neuzeit
ATTACH;FMTTYPE=image/jpeg:https://reenactment-events.com/wp-content/uploads/2024/08/272274041_10225221981723884_3240589466392941416_n.jpg
END:VEVENT
END:VCALENDAR