BEGIN:VCALENDAR
VERSION:2.0
PRODID:-//Reenactment-Events.com - ECPv6.15.13//NONSGML v1.0//EN
CALSCALE:GREGORIAN
METHOD:PUBLISH
X-ORIGINAL-URL:https://reenactment-events.com
X-WR-CALDESC:Veranstaltungen für Reenactment-Events.com
REFRESH-INTERVAL;VALUE=DURATION:PT1H
X-Robots-Tag:noindex
X-PUBLISHED-TTL:PT1H
BEGIN:VTIMEZONE
TZID:Europe/Berlin
BEGIN:DAYLIGHT
TZOFFSETFROM:+0100
TZOFFSETTO:+0200
TZNAME:CEST
DTSTART:20240331T010000
END:DAYLIGHT
BEGIN:STANDARD
TZOFFSETFROM:+0200
TZOFFSETTO:+0100
TZNAME:CET
DTSTART:20241027T010000
END:STANDARD
BEGIN:DAYLIGHT
TZOFFSETFROM:+0100
TZOFFSETTO:+0200
TZNAME:CEST
DTSTART:20250330T010000
END:DAYLIGHT
BEGIN:STANDARD
TZOFFSETFROM:+0200
TZOFFSETTO:+0100
TZNAME:CET
DTSTART:20251026T010000
END:STANDARD
BEGIN:DAYLIGHT
TZOFFSETFROM:+0100
TZOFFSETTO:+0200
TZNAME:CEST
DTSTART:20260329T010000
END:DAYLIGHT
BEGIN:STANDARD
TZOFFSETFROM:+0200
TZOFFSETTO:+0100
TZNAME:CET
DTSTART:20261025T010000
END:STANDARD
END:VTIMEZONE
BEGIN:VEVENT
DTSTART;TZID=Europe/Berlin:20251025T110000
DTEND;TZID=Europe/Berlin:20251026T170000
DTSTAMP:20260425T045145
CREATED:20250506T070848Z
LAST-MODIFIED:20250506T070848Z
UID:1522-1761390000-1761498000@reenactment-events.com
SUMMARY:Herbstfest- Reise ins slawische Mittelalter
DESCRIPTION:Zeitreise in die Welt der Slawen mit Handwerk\, Kampf und Handel
URL:https://reenactment-events.com/event/herbstfest-reise-ins-slawische-mittelalter/
LOCATION:Freilichtmuseum Stary Iud\, Hauptstraße 32\, Dissen-Striesow OT Dissen\, 03096
CATEGORIES:Mittelalter
ATTACH;FMTTYPE=image/jpeg:https://reenactment-events.com/wp-content/uploads/2025/03/IMG_7168.jpeg
END:VEVENT
BEGIN:VEVENT
DTSTART;TZID=Europe/Berlin:20251026T000000
DTEND;TZID=Europe/Berlin:20251026T235959
DTSTAMP:20260425T045145
CREATED:20241105T202651Z
LAST-MODIFIED:20241105T203235Z
UID:186-1761436800-1761523199@reenactment-events.com
SUMMARY:In den Wohnzimmern der Römer
DESCRIPTION:Die Häuser im Römischen Stadtviertel werden mit Leben gefüllt und Reenactors stehen den neugierigen Besuchern Rede und Antwort. Wie sah das Familienleben zur Zeit der Römer aus? Welche Rolle kam Frauen in der Antike zu? Und wie kann man sich das zivile Leben in der Stadt Carnuntum damals vorstellen? Bei einem Spaziergang durch die römischen Häuser können Sie die Bewohner Carnuntums treffen und ihre interessanten Geschichten erfahren.
URL:https://reenactment-events.com/event/in-den-wohnzimmern-der-roemer/
ATTACH;FMTTYPE=image/jpeg:https://reenactment-events.com/wp-content/uploads/2024/11/20160612-_SCT0995-e1730838740599.jpg
END:VEVENT
END:VCALENDAR