BEGIN:VCALENDAR
VERSION:2.0
PRODID:-//Reenactment-Events.com - ECPv6.15.13//NONSGML v1.0//EN
CALSCALE:GREGORIAN
METHOD:PUBLISH
X-ORIGINAL-URL:https://reenactment-events.com
X-WR-CALDESC:Veranstaltungen für Reenactment-Events.com
REFRESH-INTERVAL;VALUE=DURATION:PT1H
X-Robots-Tag:noindex
X-PUBLISHED-TTL:PT1H
BEGIN:VTIMEZONE
TZID:Europe/Berlin
BEGIN:DAYLIGHT
TZOFFSETFROM:+0100
TZOFFSETTO:+0200
TZNAME:CEST
DTSTART:20250330T010000
END:DAYLIGHT
BEGIN:STANDARD
TZOFFSETFROM:+0200
TZOFFSETTO:+0100
TZNAME:CET
DTSTART:20251026T010000
END:STANDARD
BEGIN:DAYLIGHT
TZOFFSETFROM:+0100
TZOFFSETTO:+0200
TZNAME:CEST
DTSTART:20260329T010000
END:DAYLIGHT
BEGIN:STANDARD
TZOFFSETFROM:+0200
TZOFFSETTO:+0100
TZNAME:CET
DTSTART:20261025T010000
END:STANDARD
BEGIN:DAYLIGHT
TZOFFSETFROM:+0100
TZOFFSETTO:+0200
TZNAME:CEST
DTSTART:20270328T010000
END:DAYLIGHT
BEGIN:STANDARD
TZOFFSETFROM:+0200
TZOFFSETTO:+0100
TZNAME:CET
DTSTART:20271031T010000
END:STANDARD
END:VTIMEZONE
BEGIN:VEVENT
DTSTART;TZID=Europe/Berlin:20260406T100000
DTEND;TZID=Europe/Berlin:20260406T180000
DTSTAMP:20260424T192748
CREATED:20250829T124310Z
LAST-MODIFIED:20250829T124310Z
UID:1945-1775469600-1775498400@reenactment-events.com
SUMMARY:Frühlingsfest
DESCRIPTION:Am Ostermontag wird im Geschichtspark der Übergang vom harten Winter zum lange ersehnten Frühling gefeiert. Unsere Darsteller verlegen Ihre Handwerkstätigkeiten wieder an die frische Luft und in den Gärten wachsen die ersten Kräuter. \nIm Park und auf dem Eventplatz werden außerdem zahlreiche Aktionen rund ums Osterfest geboten: Für Kinder sind bunte Ostereier versteckt\, auf dem Eventplatz können Sie sich mit Leckereien verwöhnen oder von unserem Kunsthandwerker-Markt überraschen lassen. Am Nachmittag versammeln sich Bewohner und Besucher zu einem langen Zug durch den Park\, um den Winter auszutreiben. Es wird laut gescheppert und getrötet und als Höhepunkt der Winter in Form einer Strohpuppe auf dem Opferplatz verbrannt.
URL:https://reenactment-events.com/event/fruehlingsfest/
LOCATION:Geschichtspark Bärnau-Tachov\, Naaber Straße 5b\, Bärnau\, 95671\, Deutschland
CATEGORIES:Mittelalter
ATTACH;FMTTYPE=image/jpeg:https://reenactment-events.com/wp-content/uploads/2025/08/DSC1265_00037-e1756474183821.jpg
END:VEVENT
END:VCALENDAR