BEGIN:VCALENDAR
VERSION:2.0
PRODID:-//Reenactment-Events.com - ECPv6.15.13//NONSGML v1.0//EN
CALSCALE:GREGORIAN
METHOD:PUBLISH
X-WR-CALNAME:Reenactment-Events.com
X-ORIGINAL-URL:https://reenactment-events.com
X-WR-CALDESC:Veranstaltungen für Reenactment-Events.com
REFRESH-INTERVAL;VALUE=DURATION:PT1H
X-Robots-Tag:noindex
X-PUBLISHED-TTL:PT1H
BEGIN:VTIMEZONE
TZID:Europe/Berlin
BEGIN:DAYLIGHT
TZOFFSETFROM:+0100
TZOFFSETTO:+0200
TZNAME:CEST
DTSTART:20250330T010000
END:DAYLIGHT
BEGIN:STANDARD
TZOFFSETFROM:+0200
TZOFFSETTO:+0100
TZNAME:CET
DTSTART:20251026T010000
END:STANDARD
BEGIN:DAYLIGHT
TZOFFSETFROM:+0100
TZOFFSETTO:+0200
TZNAME:CEST
DTSTART:20260329T010000
END:DAYLIGHT
BEGIN:STANDARD
TZOFFSETFROM:+0200
TZOFFSETTO:+0100
TZNAME:CET
DTSTART:20261025T010000
END:STANDARD
BEGIN:DAYLIGHT
TZOFFSETFROM:+0100
TZOFFSETTO:+0200
TZNAME:CEST
DTSTART:20270328T010000
END:DAYLIGHT
BEGIN:STANDARD
TZOFFSETFROM:+0200
TZOFFSETTO:+0100
TZNAME:CET
DTSTART:20271031T010000
END:STANDARD
END:VTIMEZONE
BEGIN:VEVENT
DTSTART;TZID=Europe/Berlin:20260502T110000
DTEND;TZID=Europe/Berlin:20260503T170000
DTSTAMP:20260424T191708
CREATED:20260118T160255Z
LAST-MODIFIED:20260217T203212Z
UID:2577-1777719600-1777827600@reenactment-events.com
SUMMARY:Saisoneröffnung Stary Lud
DESCRIPTION:Handwerks und Kampfdarstellung für den Bereich des slawischen Mittelalters
URL:https://reenactment-events.com/event/saisoneroeffnung-stary-lud/
LOCATION:Freilichtmuseum Stary Iud\, Hauptstraße 32\, Dissen-Striesow OT Dissen\, 03096
CATEGORIES:Mittelalter
ATTACH;FMTTYPE=image/jpeg:https://reenactment-events.com/wp-content/uploads/2026/01/IMG_5534-scaled-e1771360327887.jpeg
END:VEVENT
END:VCALENDAR