BEGIN:VCALENDAR
VERSION:2.0
PRODID:-//Reenactment-Events.com - ECPv6.15.13//NONSGML v1.0//EN
CALSCALE:GREGORIAN
METHOD:PUBLISH
X-WR-CALNAME:Reenactment-Events.com
X-ORIGINAL-URL:https://reenactment-events.com
X-WR-CALDESC:Veranstaltungen für Reenactment-Events.com
REFRESH-INTERVAL;VALUE=DURATION:PT1H
X-Robots-Tag:noindex
X-PUBLISHED-TTL:PT1H
BEGIN:VTIMEZONE
TZID:Europe/Berlin
BEGIN:DAYLIGHT
TZOFFSETFROM:+0100
TZOFFSETTO:+0200
TZNAME:CEST
DTSTART:20250330T010000
END:DAYLIGHT
BEGIN:STANDARD
TZOFFSETFROM:+0200
TZOFFSETTO:+0100
TZNAME:CET
DTSTART:20251026T010000
END:STANDARD
BEGIN:DAYLIGHT
TZOFFSETFROM:+0100
TZOFFSETTO:+0200
TZNAME:CEST
DTSTART:20260329T010000
END:DAYLIGHT
BEGIN:STANDARD
TZOFFSETFROM:+0200
TZOFFSETTO:+0100
TZNAME:CET
DTSTART:20261025T010000
END:STANDARD
BEGIN:DAYLIGHT
TZOFFSETFROM:+0100
TZOFFSETTO:+0200
TZNAME:CEST
DTSTART:20270328T010000
END:DAYLIGHT
BEGIN:STANDARD
TZOFFSETFROM:+0200
TZOFFSETTO:+0100
TZNAME:CET
DTSTART:20271031T010000
END:STANDARD
END:VTIMEZONE
BEGIN:VEVENT
DTSTART;TZID=Europe/Berlin:20260509T000000
DTEND;TZID=Europe/Berlin:20260510T235959
DTSTAMP:20260424T204536
CREATED:20260115T101144Z
LAST-MODIFIED:20260115T101144Z
UID:2421-1778284800-1778457599@reenactment-events.com
SUMMARY:Historischer Markt Lich
DESCRIPTION:Geschichtsfenster hat seit 2010 im Rahmen des Stadtfests Lich einen Historischen Markt ausgerichtet.\nAb 2026 findet die Veranstaltung unter neuer Leitung\, aber mit bewährtem Konzept und Teilnehmer*innen statt.\nDer Fokus liegt auf besuchnaher Handwerks- und Militärdarstellung des 14ten und 15ten Jahrhunderts
URL:https://reenactment-events.com/event/historischer-markt-lich-2/
LOCATION:Kirchenplatz Lich\, Lich\, 35423\, Germany
CATEGORIES:Mittelalter
ATTACH;FMTTYPE=image/png:https://reenactment-events.com/wp-content/uploads/2026/01/Screenshot-2026-01-06-20.32.32.png
END:VEVENT
END:VCALENDAR