BEGIN:VCALENDAR
VERSION:2.0
PRODID:-//Reenactment-Events.com - ECPv6.15.13//NONSGML v1.0//EN
CALSCALE:GREGORIAN
METHOD:PUBLISH
X-ORIGINAL-URL:https://reenactment-events.com
X-WR-CALDESC:Veranstaltungen für Reenactment-Events.com
REFRESH-INTERVAL;VALUE=DURATION:PT1H
X-Robots-Tag:noindex
X-PUBLISHED-TTL:PT1H
BEGIN:VTIMEZONE
TZID:Europe/Berlin
BEGIN:DAYLIGHT
TZOFFSETFROM:+0100
TZOFFSETTO:+0200
TZNAME:CEST
DTSTART:20250330T010000
END:DAYLIGHT
BEGIN:STANDARD
TZOFFSETFROM:+0200
TZOFFSETTO:+0100
TZNAME:CET
DTSTART:20251026T010000
END:STANDARD
BEGIN:DAYLIGHT
TZOFFSETFROM:+0100
TZOFFSETTO:+0200
TZNAME:CEST
DTSTART:20260329T010000
END:DAYLIGHT
BEGIN:STANDARD
TZOFFSETFROM:+0200
TZOFFSETTO:+0100
TZNAME:CET
DTSTART:20261025T010000
END:STANDARD
BEGIN:DAYLIGHT
TZOFFSETFROM:+0100
TZOFFSETTO:+0200
TZNAME:CEST
DTSTART:20270328T010000
END:DAYLIGHT
BEGIN:STANDARD
TZOFFSETFROM:+0200
TZOFFSETTO:+0100
TZNAME:CET
DTSTART:20271031T010000
END:STANDARD
END:VTIMEZONE
BEGIN:VEVENT
DTSTART;TZID=Europe/Berlin:20260516T100000
DTEND;TZID=Europe/Berlin:20260717T170000
DTSTAMP:20260424T221913
CREATED:20241213T114245Z
LAST-MODIFIED:20260115T102015Z
UID:1301-1778925600-1784307600@reenactment-events.com
SUMMARY:40 000 BC - Mammutjäger\, Kelten und Co.
DESCRIPTION:Am 16. & 17. Mai 2026 treffen im archäologischen Freigelände des MAMUZ Schloss Asparn/Zaya von 10 bis 18 Uhr geschickte Mammutjäger auf kunstfertige Kelten\, spielfreudige Römer und mittelalterliche Schwertkämpfer. Die vielfältigen Stationen geben Einblick in 40.000 Jahre unserer Geschichte. Gezeigt werden authentisches Lagerleben\, spannende Schaukämpfe\, Vorführungen historischer Handwerkskünste\, Mitmach-Stationen und Musik aus der Altsteinzeit\, Jungsteinzeit\, Bronzezeit\, Eisenzeit\, der Römischen Kaiserzeit sowie dem Frühmittelalter.
URL:https://reenactment-events.com/event/40-000-bc-mammutjaeger-kelten-und-co/
LOCATION:Mamuz\, Schlossgasse 1\, Asparn an der Zaya\, 2151\, Austria
CATEGORIES:Frühgeschichte,Urgeschichte
ATTACH;FMTTYPE=image/jpeg:https://reenactment-events.com/wp-content/uploads/2024/12/40-scaled.jpg
END:VEVENT
BEGIN:VEVENT
DTSTART;TZID=Europe/Berlin:20260524T100000
DTEND;TZID=Europe/Berlin:20260525T180000
DTSTAMP:20260424T221913
CREATED:20240812T195503Z
LAST-MODIFIED:20250829T120519Z
UID:61-1779616800-1779732000@reenactment-events.com
SUMMARY:Weibsbilder - Frauen schreiben Geschichte
DESCRIPTION:Konnten Frauen bereits vor dem Kampf um Gleichberechtigung Geschichte schreiben? Und wenn ja\, wie? Im Park sind Stationen mit Frauendarstellungen\, Schautischen und Vorführungen verteilt\, die sich dem Thema von unterschiedlichen Seiten nähern. Wie war die rechtliche Stellung der Frau und welche Frauenberufe\, -zünfte oder geistliche Funktionen gab es? Wie verhielt es sich mit Erziehung\, Bildung oder Sexualität? Wie wurde mit Schwangerschaft\, Medizin und Körperhygiene umgegangen? Gab es Frauen in Herrschaftspositionen oder kämpfende Frauen in Kriegen? Antworten auf diese und viele weitere Fragen erhalten Sie am Pfingstwochenende.
URL:https://reenactment-events.com/event/weibsbilder-frauen-schreiben-geschichte/
LOCATION:Geschichtspark Bärnau-Tachov\, Naaber Straße 5b\, Bärnau\, 95671\, Deutschland
CATEGORIES:Multi-Period
ATTACH;FMTTYPE=image/jpeg:https://reenactment-events.com/wp-content/uploads/2024/08/DSC1650_00129-scaled-e1723492483738.jpg
END:VEVENT
BEGIN:VEVENT
DTSTART;TZID=Europe/Berlin:20260524T140000
DTEND;TZID=Europe/Berlin:20260524T170000
DTSTAMP:20260424T221913
CREATED:20240812T211511Z
LAST-MODIFIED:20260115T101710Z
UID:75-1779631200-1779642000@reenactment-events.com
SUMMARY:Regency-Picknick im Grünen
DESCRIPTION:Jane Austen meets Joseph Haydn! Das KochKulturMuseum und das Haydnhaus Wien nimmt Sie mit auf eine Reise ins frühe 19. Jahrhundert. Entdecken Sie\, was man damals bei einem Picknick gegessen hat – mit einem eigens für Sie zusammengestellten Picknick-Korb. Essen wie anno dazumal – der genussvollen Seite der Geschichte auf der Spur! \nIm Hof des Haydnhauses Wien fühlen wir uns wie Figuren aus Jane Austens Romanen und lassen die zu dieser Zeit in England entwickelte Sitte des Picknicks aufleben. Eine Führung durch die Ausstellung im Haydnhaus rundet den Nachmittag ab. \nBegleitet von zarter Live-Musik verköstigen wir Sie mit Gerichten\, die wir nach Original-Rezepten der Zeit aus England und Wien zubereiten. Die Rezepte tragen so klingende Namen wie Salamagundy und stammen aus Kochbüchern\, nach denen schon für Joseph Haydn und Jane Austen gekocht wurde. Unter den schattigen Bäumen des Haydnhauses genießen Sie die Speisen – ganz so wie Mr. Darcy und Elizabeth Bennet. \nTipp: Wir freuen uns\, wenn Sie auch im passenden Kostüm erscheinen.
URL:https://reenactment-events.com/event/regency-picknick-im-gruenen/
LOCATION:Haydnhaus Wien\, Haydngasse 19\, Wien\, 1060\, Austria
CATEGORIES:Neuzeit
ATTACH;FMTTYPE=image/webp:https://reenactment-events.com/wp-content/uploads/2024/08/kokumu_Regency_01-1024x768-1.webp
END:VEVENT
END:VCALENDAR