BEGIN:VCALENDAR
VERSION:2.0
PRODID:-//Reenactment-Events.com - ECPv6.15.13//NONSGML v1.0//EN
CALSCALE:GREGORIAN
METHOD:PUBLISH
X-WR-CALNAME:Reenactment-Events.com
X-ORIGINAL-URL:https://reenactment-events.com
X-WR-CALDESC:Veranstaltungen für Reenactment-Events.com
REFRESH-INTERVAL;VALUE=DURATION:PT1H
X-Robots-Tag:noindex
X-PUBLISHED-TTL:PT1H
BEGIN:VTIMEZONE
TZID:Europe/Berlin
BEGIN:DAYLIGHT
TZOFFSETFROM:+0100
TZOFFSETTO:+0200
TZNAME:CEST
DTSTART:20250330T010000
END:DAYLIGHT
BEGIN:STANDARD
TZOFFSETFROM:+0200
TZOFFSETTO:+0100
TZNAME:CET
DTSTART:20251026T010000
END:STANDARD
BEGIN:DAYLIGHT
TZOFFSETFROM:+0100
TZOFFSETTO:+0200
TZNAME:CEST
DTSTART:20260329T010000
END:DAYLIGHT
BEGIN:STANDARD
TZOFFSETFROM:+0200
TZOFFSETTO:+0100
TZNAME:CET
DTSTART:20261025T010000
END:STANDARD
BEGIN:DAYLIGHT
TZOFFSETFROM:+0100
TZOFFSETTO:+0200
TZNAME:CEST
DTSTART:20270328T010000
END:DAYLIGHT
BEGIN:STANDARD
TZOFFSETFROM:+0200
TZOFFSETTO:+0100
TZNAME:CET
DTSTART:20271031T010000
END:STANDARD
END:VTIMEZONE
BEGIN:VEVENT
DTSTART;TZID=Europe/Berlin:20260516T100000
DTEND;TZID=Europe/Berlin:20260717T170000
DTSTAMP:20260424T221306
CREATED:20241213T114245Z
LAST-MODIFIED:20260115T102015Z
UID:1301-1778925600-1784307600@reenactment-events.com
SUMMARY:40 000 BC - Mammutjäger\, Kelten und Co.
DESCRIPTION:Am 16. & 17. Mai 2026 treffen im archäologischen Freigelände des MAMUZ Schloss Asparn/Zaya von 10 bis 18 Uhr geschickte Mammutjäger auf kunstfertige Kelten\, spielfreudige Römer und mittelalterliche Schwertkämpfer. Die vielfältigen Stationen geben Einblick in 40.000 Jahre unserer Geschichte. Gezeigt werden authentisches Lagerleben\, spannende Schaukämpfe\, Vorführungen historischer Handwerkskünste\, Mitmach-Stationen und Musik aus der Altsteinzeit\, Jungsteinzeit\, Bronzezeit\, Eisenzeit\, der Römischen Kaiserzeit sowie dem Frühmittelalter.
URL:https://reenactment-events.com/event/40-000-bc-mammutjaeger-kelten-und-co/
LOCATION:Mamuz\, Schlossgasse 1\, Asparn an der Zaya\, 2151\, Austria
CATEGORIES:Frühgeschichte,Urgeschichte
ATTACH;FMTTYPE=image/jpeg:https://reenactment-events.com/wp-content/uploads/2024/12/40-scaled.jpg
END:VEVENT
BEGIN:VEVENT
DTSTART;TZID=Europe/Berlin:20260704T100000
DTEND;TZID=Europe/Berlin:20260705T180000
DTSTAMP:20260424T221306
CREATED:20250829T125216Z
LAST-MODIFIED:20250829T125216Z
UID:1952-1783159200-1783274400@reenactment-events.com
SUMMARY:Slawentage
DESCRIPTION:Im Frühmittelalter erstreckte sich der Siedlungsraum der Slawen bis weit ins heutige Bayern hinein. In unserem Slawendorf können Sie an diesem Wochenende in die Bräuche\, Sitten und Kulte unserer Vorfahren eintauchen\, aber auch alles über ihr Alltagsleben und ihre Handwerkstechniken erfahren. Woher hatten die Menschen im frühen Mittelalter Eisen? Warum ist ein irdener Tontopf wasserdicht? Was ist Holzteer und wozu ist er gut? Wir beantworten all Ihre Fragen!
URL:https://reenactment-events.com/event/slawentage/
LOCATION:Geschichtspark Bärnau-Tachov\, Naaber Straße 5b\, Bärnau\, 95671\, Deutschland
CATEGORIES:Mittelalter
ATTACH;FMTTYPE=image/jpeg:https://reenactment-events.com/wp-content/uploads/2025/08/DSC_5119_00236.jpg
END:VEVENT
END:VCALENDAR