BEGIN:VCALENDAR
VERSION:2.0
PRODID:-//Reenactment-Events.com - ECPv6.15.13//NONSGML v1.0//EN
CALSCALE:GREGORIAN
METHOD:PUBLISH
X-WR-CALNAME:Reenactment-Events.com
X-ORIGINAL-URL:https://reenactment-events.com
X-WR-CALDESC:Veranstaltungen für Reenactment-Events.com
REFRESH-INTERVAL;VALUE=DURATION:PT1H
X-Robots-Tag:noindex
X-PUBLISHED-TTL:PT1H
BEGIN:VTIMEZONE
TZID:Europe/Berlin
BEGIN:DAYLIGHT
TZOFFSETFROM:+0100
TZOFFSETTO:+0200
TZNAME:CEST
DTSTART:20250330T010000
END:DAYLIGHT
BEGIN:STANDARD
TZOFFSETFROM:+0200
TZOFFSETTO:+0100
TZNAME:CET
DTSTART:20251026T010000
END:STANDARD
BEGIN:DAYLIGHT
TZOFFSETFROM:+0100
TZOFFSETTO:+0200
TZNAME:CEST
DTSTART:20260329T010000
END:DAYLIGHT
BEGIN:STANDARD
TZOFFSETFROM:+0200
TZOFFSETTO:+0100
TZNAME:CET
DTSTART:20261025T010000
END:STANDARD
BEGIN:DAYLIGHT
TZOFFSETFROM:+0100
TZOFFSETTO:+0200
TZNAME:CEST
DTSTART:20270328T010000
END:DAYLIGHT
BEGIN:STANDARD
TZOFFSETFROM:+0200
TZOFFSETTO:+0100
TZNAME:CET
DTSTART:20271031T010000
END:STANDARD
END:VTIMEZONE
BEGIN:VEVENT
DTSTART;TZID=Europe/Berlin:20260718T110000
DTEND;TZID=Europe/Berlin:20260719T170000
DTSTAMP:20260424T234119
CREATED:20260106T191316Z
LAST-MODIFIED:20260106T191316Z
UID:2119-1784372400-1784480400@reenactment-events.com
SUMMARY:Burg Löwenstein im Mittelalter
DESCRIPTION:Living History – Entstehung und Fall von Burg Löwenstein\nDarsteller und Gruppen aus dem Hoch- und Spätmittelalter vermitteln die Geschichte der mittelalterlichen Wehranlage.
URL:https://reenactment-events.com/event/burg-loewenstein-im-mittelalter/
LOCATION:74245 Löwenstein\, Burgruine Löwenstein\, 74245 Löwenstein\, Baden-Württemberg\, 74245\, Germany
CATEGORIES:Mittelalter,Multi-Period
ATTACH;FMTTYPE=image/jpeg:https://reenactment-events.com/wp-content/uploads/2025/10/IMG_1611-scaled.jpg
ORGANIZER;CN="A-Papst-Production":MAILTO:sandra.turba@gmx.net
END:VEVENT
END:VCALENDAR