BEGIN:VCALENDAR
VERSION:2.0
PRODID:-//Reenactment-Events.com - ECPv6.15.13//NONSGML v1.0//EN
CALSCALE:GREGORIAN
METHOD:PUBLISH
X-ORIGINAL-URL:https://reenactment-events.com
X-WR-CALDESC:Veranstaltungen für Reenactment-Events.com
REFRESH-INTERVAL;VALUE=DURATION:PT1H
X-Robots-Tag:noindex
X-PUBLISHED-TTL:PT1H
BEGIN:VTIMEZONE
TZID:Europe/Berlin
BEGIN:DAYLIGHT
TZOFFSETFROM:+0100
TZOFFSETTO:+0200
TZNAME:CEST
DTSTART:20250330T010000
END:DAYLIGHT
BEGIN:STANDARD
TZOFFSETFROM:+0200
TZOFFSETTO:+0100
TZNAME:CET
DTSTART:20251026T010000
END:STANDARD
BEGIN:DAYLIGHT
TZOFFSETFROM:+0100
TZOFFSETTO:+0200
TZNAME:CEST
DTSTART:20260329T010000
END:DAYLIGHT
BEGIN:STANDARD
TZOFFSETFROM:+0200
TZOFFSETTO:+0100
TZNAME:CET
DTSTART:20261025T010000
END:STANDARD
BEGIN:DAYLIGHT
TZOFFSETFROM:+0100
TZOFFSETTO:+0200
TZNAME:CEST
DTSTART:20270328T010000
END:DAYLIGHT
BEGIN:STANDARD
TZOFFSETFROM:+0200
TZOFFSETTO:+0100
TZNAME:CET
DTSTART:20271031T010000
END:STANDARD
END:VTIMEZONE
BEGIN:VEVENT
DTSTART;TZID=Europe/Berlin:20260805T000000
DTEND;TZID=Europe/Berlin:20260809T235959
DTSTAMP:20260425T011444
CREATED:20260106T192235Z
LAST-MODIFIED:20260106T192341Z
UID:2417-1785888000-1786319999@reenactment-events.com
SUMMARY:Bachrittertage
DESCRIPTION:
URL:https://reenactment-events.com/event/bachrittertage/
LOCATION:Bachritterburg Kanzach\, Riedlingerstraße 12\, Kanzach\, 88422\, Deutschland
CATEGORIES:Mittelalter
ATTACH;FMTTYPE=image/jpeg:https://reenactment-events.com/wp-content/uploads/2026/01/611997594_4193077137607362_6475462780890090340_n.jpg
END:VEVENT
BEGIN:VEVENT
DTSTART;TZID=Europe/Berlin:20260808T100000
DTEND;TZID=Europe/Berlin:20260809T180000
DTSTAMP:20260425T011444
CREATED:20250829T130109Z
LAST-MODIFIED:20250829T130109Z
UID:1955-1786183200-1786298400@reenactment-events.com
SUMMARY:Historisches Militärmanöver
DESCRIPTION:Die Zeit der Schwerter und Schilde\, die Zeit der Ritter\, Schlachten und Gemetzel: Dieses Bild haben die meisten Menschen vor Augen\, wenn sie an das Mittelalter denken. Das Historische Militärmanöver zeigt\, wie es wirklich war: Mit authentischen Waffen und Ausrüstung spürt das Manöver den echten Geschehnissen in Krieg und Frieden nach. Dabei wird schnell klar\, dass das Mittelalter keine besonders blutrünstige und dunkle Zeit war. Unsere Darsteller bieten ein lebendiges Bild von den Kämpfen der Zeit und dem Leben der einfachen Soldaten. Erleben Sie Kampfvorführungen\, Schlachten\, Waffen- und Modenschauen\, lernen Sie historische Kampftechniken kennen oder schlüpfen Sie selbst in ein Kettenhemd. \n\n\n\n\n\n\n\n\n\n\n  \n\n\n  \n\n\n  \n\n\n  \n\n\n 
URL:https://reenactment-events.com/event/historisches-militaermanoever/
CATEGORIES:Mittelalter
ATTACH;FMTTYPE=image/jpeg:https://reenactment-events.com/wp-content/uploads/2025/08/535726412_24353305680997510_87434226440115698_n.jpg
END:VEVENT
END:VCALENDAR