BEGIN:VCALENDAR
VERSION:2.0
PRODID:-//Reenactment-Events.com - ECPv6.15.13//NONSGML v1.0//EN
CALSCALE:GREGORIAN
METHOD:PUBLISH
X-ORIGINAL-URL:https://reenactment-events.com
X-WR-CALDESC:Veranstaltungen für Reenactment-Events.com
REFRESH-INTERVAL;VALUE=DURATION:PT1H
X-Robots-Tag:noindex
X-PUBLISHED-TTL:PT1H
BEGIN:VTIMEZONE
TZID:Europe/Berlin
BEGIN:DAYLIGHT
TZOFFSETFROM:+0100
TZOFFSETTO:+0200
TZNAME:CEST
DTSTART:20250330T010000
END:DAYLIGHT
BEGIN:STANDARD
TZOFFSETFROM:+0200
TZOFFSETTO:+0100
TZNAME:CET
DTSTART:20251026T010000
END:STANDARD
BEGIN:DAYLIGHT
TZOFFSETFROM:+0100
TZOFFSETTO:+0200
TZNAME:CEST
DTSTART:20260329T010000
END:DAYLIGHT
BEGIN:STANDARD
TZOFFSETFROM:+0200
TZOFFSETTO:+0100
TZNAME:CET
DTSTART:20261025T010000
END:STANDARD
BEGIN:DAYLIGHT
TZOFFSETFROM:+0100
TZOFFSETTO:+0200
TZNAME:CEST
DTSTART:20270328T010000
END:DAYLIGHT
BEGIN:STANDARD
TZOFFSETFROM:+0200
TZOFFSETTO:+0100
TZNAME:CET
DTSTART:20271031T010000
END:STANDARD
END:VTIMEZONE
BEGIN:VEVENT
DTSTART;TZID=Europe/Berlin:20260828T000000
DTEND;TZID=Europe/Berlin:20260830T235959
DTSTAMP:20260425T012236
CREATED:20240812T195119Z
LAST-MODIFIED:20251008T160618Z
UID:57-1787875200-1788134399@reenactment-events.com
SUMMARY:Vom Rasten und Reisen
DESCRIPTION:In einer Herberge ist viel los! Reisende kommen an oder reisen ab. Wer auf der Durchreise ist\, kann sich in der Gaststube verpflegen lassen. Aber hier gibt es nicht nur Essen und Getränke. Die Gaststube der Herberge ist auch ein wichtiger Treffpunkt für die Bewohner jeder kleinen Stadt. Hier werden Geschäfte abgewickelt und auch gefeiert! An diesem Wochenende laden wir Sie ins 14. Jahrhundert ein: In der Herberge können Sie miterleben\, wie der Gastwirt seinen Gästen das Quartier zeigt\, und wie die Quartiere ausschauen oder wie in der Küche das Essen für die Reisenden oder für ein Fest vorbereitet wird.
URL:https://reenactment-events.com/event/vom-rasten-und-reisen/
LOCATION:Geschichtspark Bärnau-Tachov\, Naaber Straße 5b\, Bärnau\, 95671\, Deutschland
CATEGORIES:Mittelalter
ATTACH;FMTTYPE=image/jpeg:https://reenactment-events.com/wp-content/uploads/2024/08/424637615_888449099958812_3368027209745830754_n.jpg
END:VEVENT
END:VCALENDAR