BEGIN:VCALENDAR
VERSION:2.0
PRODID:-//Reenactment-Events.com - ECPv6.15.13//NONSGML v1.0//EN
CALSCALE:GREGORIAN
METHOD:PUBLISH
X-WR-CALNAME:Reenactment-Events.com
X-ORIGINAL-URL:https://reenactment-events.com
X-WR-CALDESC:Veranstaltungen für Reenactment-Events.com
REFRESH-INTERVAL;VALUE=DURATION:PT1H
X-Robots-Tag:noindex
X-PUBLISHED-TTL:PT1H
BEGIN:VTIMEZONE
TZID:Europe/Berlin
BEGIN:DAYLIGHT
TZOFFSETFROM:+0100
TZOFFSETTO:+0200
TZNAME:CEST
DTSTART:20250330T010000
END:DAYLIGHT
BEGIN:STANDARD
TZOFFSETFROM:+0200
TZOFFSETTO:+0100
TZNAME:CET
DTSTART:20251026T010000
END:STANDARD
BEGIN:DAYLIGHT
TZOFFSETFROM:+0100
TZOFFSETTO:+0200
TZNAME:CEST
DTSTART:20260329T010000
END:DAYLIGHT
BEGIN:STANDARD
TZOFFSETFROM:+0200
TZOFFSETTO:+0100
TZNAME:CET
DTSTART:20261025T010000
END:STANDARD
BEGIN:DAYLIGHT
TZOFFSETFROM:+0100
TZOFFSETTO:+0200
TZNAME:CEST
DTSTART:20270328T010000
END:DAYLIGHT
BEGIN:STANDARD
TZOFFSETFROM:+0200
TZOFFSETTO:+0100
TZNAME:CET
DTSTART:20271031T010000
END:STANDARD
END:VTIMEZONE
BEGIN:VEVENT
DTSTART;TZID=Europe/Berlin:20260424T100000
DTEND;TZID=Europe/Berlin:20260426T180000
DTSTAMP:20260424T174009
CREATED:20250829T124855Z
LAST-MODIFIED:20250829T124855Z
UID:1948-1777024800-1777226400@reenactment-events.com
SUMMARY:Ordensritter im Geschichtspark
DESCRIPTION:Ritter des Templerordens und des Deutschen Ordens besuchen den Geschichtspark und führen das Leben in diesen streng regulierten Ordensgemeinschaften im Mittelalter vor. Dazu gehören regelmäßige Stundengebete\, Mahlzeiten mit Lesung durch einen Lektor\, Waffenübungen\, Waffenvorführungen und vieles mehr. Wir stellen uns die hölzerne Motte des Parks als die Grenze des Christentums vor und lassen sie als Ordensburg lebendig werden. Erfahren Sie\, wie man gleichteitig als Ritter kämpft und als Mönch in Armut\, Keuschheit und Gehorsam lebt.
URL:https://reenactment-events.com/event/ordensritter-im-geschichtspark/
LOCATION:Geschichtspark Bärnau-Tachov\, Naaber Straße 5b\, Bärnau\, 95671\, Deutschland
CATEGORIES:Mittelalter
ATTACH;FMTTYPE=image/jpeg:https://reenactment-events.com/wp-content/uploads/2025/08/DSC2669_00209-e1756474167276.jpg
END:VEVENT
END:VCALENDAR