BEGIN:VCALENDAR
VERSION:2.0
PRODID:-//Reenactment-Events.com - ECPv6.15.13//NONSGML v1.0//EN
CALSCALE:GREGORIAN
METHOD:PUBLISH
X-ORIGINAL-URL:https://reenactment-events.com
X-WR-CALDESC:Veranstaltungen für Reenactment-Events.com
REFRESH-INTERVAL;VALUE=DURATION:PT1H
X-Robots-Tag:noindex
X-PUBLISHED-TTL:PT1H
BEGIN:VTIMEZONE
TZID:Europe/Berlin
BEGIN:DAYLIGHT
TZOFFSETFROM:+0100
TZOFFSETTO:+0200
TZNAME:CEST
DTSTART:20250330T010000
END:DAYLIGHT
BEGIN:STANDARD
TZOFFSETFROM:+0200
TZOFFSETTO:+0100
TZNAME:CET
DTSTART:20251026T010000
END:STANDARD
BEGIN:DAYLIGHT
TZOFFSETFROM:+0100
TZOFFSETTO:+0200
TZNAME:CEST
DTSTART:20260329T010000
END:DAYLIGHT
BEGIN:STANDARD
TZOFFSETFROM:+0200
TZOFFSETTO:+0100
TZNAME:CET
DTSTART:20261025T010000
END:STANDARD
BEGIN:DAYLIGHT
TZOFFSETFROM:+0100
TZOFFSETTO:+0200
TZNAME:CEST
DTSTART:20270328T010000
END:DAYLIGHT
BEGIN:STANDARD
TZOFFSETFROM:+0200
TZOFFSETTO:+0100
TZNAME:CET
DTSTART:20271031T010000
END:STANDARD
END:VTIMEZONE
BEGIN:VEVENT
DTSTART;TZID=Europe/Berlin:20260315T100000
DTEND;TZID=Europe/Berlin:20260315T170000
DTSTAMP:20260424T192758
CREATED:20260118T160331Z
LAST-MODIFIED:20260224T214054Z
UID:2545-1773568800-1773594000@reenactment-events.com
SUMMARY:Museumsfest  Naturhistorisches Museum Nürnberg
DESCRIPTION:Bei freiem Eintritt lädt das Naturhistorische Museum Nürnberg zur Zeitreise in die Vorgeschichte ein. Vergangene Kulturen von der Steinzeit bis zu den Kelten werden an diesem Tag erlebbar gemacht. Wissenschaftlich korrekt gewandete Darsteller führen Ihnen das Handwerk verschiedener vorgeschichtlicher Epochen vor. Ihre Fragen zur Vorgeschichte finden bei unseren Fachleuten ein offenes Ohr. Keltische Plätzchen\, nach Originalrezept frisch gebacken\, verwöhnen Ihren Gaumen. Ein Bücherbasar bietet Fachliteratur zu günstigen Preisen an.\nNatürlich bieten wir auch\, ganz neuzeitlich\, Kaffee und Kuchen an – und ganz nebenbei können Sie auch unser übriges Museum kennlernen.
URL:https://reenactment-events.com/event/museumsfest-naturhistorisches-museum-nuernberg/
LOCATION:Naturhistorisches Museum Nürnberg\, Marientorgraben 8\, Nürnberg\, Bayern\, 90402\, Germany
CATEGORIES:Frühgeschichte,Urgeschichte
ATTACH;FMTTYPE=image/jpeg:https://reenactment-events.com/wp-content/uploads/2026/01/IMG_4128-scaled-e1771969250499.jpeg
END:VEVENT
END:VCALENDAR