BEGIN:VCALENDAR
VERSION:2.0
PRODID:-//Reenactment-Events.com - ECPv6.15.13//NONSGML v1.0//EN
CALSCALE:GREGORIAN
METHOD:PUBLISH
X-ORIGINAL-URL:https://reenactment-events.com
X-WR-CALDESC:Veranstaltungen für Reenactment-Events.com
REFRESH-INTERVAL;VALUE=DURATION:PT1H
X-Robots-Tag:noindex
X-PUBLISHED-TTL:PT1H
BEGIN:VTIMEZONE
TZID:Europe/Berlin
BEGIN:DAYLIGHT
TZOFFSETFROM:+0100
TZOFFSETTO:+0200
TZNAME:CEST
DTSTART:20250330T010000
END:DAYLIGHT
BEGIN:STANDARD
TZOFFSETFROM:+0200
TZOFFSETTO:+0100
TZNAME:CET
DTSTART:20251026T010000
END:STANDARD
BEGIN:DAYLIGHT
TZOFFSETFROM:+0100
TZOFFSETTO:+0200
TZNAME:CEST
DTSTART:20260329T010000
END:DAYLIGHT
BEGIN:STANDARD
TZOFFSETFROM:+0200
TZOFFSETTO:+0100
TZNAME:CET
DTSTART:20261025T010000
END:STANDARD
BEGIN:DAYLIGHT
TZOFFSETFROM:+0100
TZOFFSETTO:+0200
TZNAME:CEST
DTSTART:20270328T010000
END:DAYLIGHT
BEGIN:STANDARD
TZOFFSETFROM:+0200
TZOFFSETTO:+0100
TZNAME:CET
DTSTART:20271031T010000
END:STANDARD
END:VTIMEZONE
BEGIN:VEVENT
DTSTART;TZID=Europe/Berlin:20261003T000000
DTEND;TZID=Europe/Berlin:20261004T235959
DTSTAMP:20260425T031149
CREATED:20241213T120119Z
LAST-MODIFIED:20260115T101225Z
UID:1305-1790985600-1791158399@reenactment-events.com
SUMMARY:Mittelaltertage
DESCRIPTION:Vom 3. bis 5. Oktober hält das Mittelalter wieder Einzug in Bad Windsheim: Zahlreiche Living History Darstellerinnen und Darsteller finden sich in der Baugruppe Mittelalter und Baugruppe Stadt ein und zeigen neben Szenen des alltäglichen Lebens auch spannende handwerkliche Vorführungen mit den Schwerpunkten um 1000 n. Chr.\, um 1320 und um 1476. Auch das Badhaus aus Wendelstein wird an diesem besonderen langen Wochenende belebt.
URL:https://reenactment-events.com/event/mittelaltertage/
LOCATION:Fränkisches Freilandmuseum Bad Windsheim\, Eisweiherweg 1\, Bad Windsheim\, 91438\, Deutschland
CATEGORIES:Mittelalter
ATTACH;FMTTYPE=image/jpeg:https://reenactment-events.com/wp-content/uploads/2024/08/IMG_4440-scaled-e1723551740977.jpg
END:VEVENT
BEGIN:VEVENT
DTSTART;TZID=Europe/Berlin:20261003T110000
DTEND;TZID=Europe/Berlin:20261004T170000
DTSTAMP:20260425T031149
CREATED:20260331T121847Z
LAST-MODIFIED:20260331T121847Z
UID:2914-1791025200-1791133200@reenactment-events.com
SUMMARY:Saisonabschluss: Stary lud - Zeitreise in das slawische Mittelalter
DESCRIPTION:Das traditionelle Herbstfest im Freilichtmuseum Stary lud. Gäste erleben hautnah historisches Handwerk und authentische Mode des frühen Mittelalters mit Hauptfokus auf das Gebiet der Westslawen\, aber auch deren Nachbarn. Ergänzt wird das Programm durch Kampfvorführungen. Im Heimatmuseum findet sich zudem Gelegenheit für einen Imbiss. Das Fest richtet sich an Familien und alle Altersgruppen und lädt dazu ein\, die Wurzeln der sorbisch‑wendischen Kultur hautnah zu entdecken.
URL:https://reenactment-events.com/event/saisonabschluss-stary-lud-zeitreise-in-das-slawische-mittelalter/
LOCATION:Freilichtmuseum Stary Iud\, Hauptstraße 32\, Dissen-Striesow OT Dissen\, 03096
CATEGORIES:Mittelalter
ATTACH;FMTTYPE=image/jpeg:https://reenactment-events.com/wp-content/uploads/2026/03/Stary-lud-2024-65-scaled.jpg
END:VEVENT
END:VCALENDAR